BEGIN:VCALENDAR
VERSION:2.0
PRODID:-//Al Ma&#039;rifa - ECPv6.15.19//NONSGML v1.0//EN
CALSCALE:GREGORIAN
METHOD:PUBLISH
X-ORIGINAL-URL:https://almarifa.org.uk
X-WR-CALDESC:Events for Al Ma&#039;rifa
REFRESH-INTERVAL;VALUE=DURATION:PT1H
X-Robots-Tag:noindex
X-PUBLISHED-TTL:PT1H
BEGIN:VTIMEZONE
TZID:Europe/London
BEGIN:DAYLIGHT
TZOFFSETFROM:+0000
TZOFFSETTO:+0100
TZNAME:BST
DTSTART:20250330T010000
END:DAYLIGHT
BEGIN:STANDARD
TZOFFSETFROM:+0100
TZOFFSETTO:+0000
TZNAME:GMT
DTSTART:20251026T010000
END:STANDARD
BEGIN:DAYLIGHT
TZOFFSETFROM:+0000
TZOFFSETTO:+0100
TZNAME:BST
DTSTART:20260329T010000
END:DAYLIGHT
BEGIN:STANDARD
TZOFFSETFROM:+0100
TZOFFSETTO:+0000
TZNAME:GMT
DTSTART:20261025T010000
END:STANDARD
BEGIN:DAYLIGHT
TZOFFSETFROM:+0000
TZOFFSETTO:+0100
TZNAME:BST
DTSTART:20270328T010000
END:DAYLIGHT
BEGIN:STANDARD
TZOFFSETFROM:+0100
TZOFFSETTO:+0000
TZNAME:GMT
DTSTART:20271031T010000
END:STANDARD
END:VTIMEZONE
BEGIN:VEVENT
DTSTART;TZID=Europe/London:20260430T191500
DTEND;TZID=Europe/London:20260430T211500
DTSTAMP:20260422T130343
CREATED:20260418T103047Z
LAST-MODIFIED:20260420T155054Z
UID:2341-1777576500-1777583700@almarifa.org.uk
SUMMARY:An introductiont to Hadith Studies.
DESCRIPTION:Course Name: An Introduction to Hadith Studies\nTeachers:Qasim Farid\nDate:Every Thursday starting 30th April 2026\nTime:7:15-9:15 PM UK\nFee: £39.99 \nSign Up \nThis course offers a comprehensive academic and theological exploration of the Sunna and Hadith. Students will journey from the foundational definitions of Prophetic reports to the complex methodology of authentication and historical codification. By the end of this course\, participants will possess the critical tools necessary to understand how the words and actions of the Prophet Muhammad ﷺ were preserved\, verified\, and integrated into the fabric of Islamic Law. \nLesson 1: Understanding the ‘Sunna/Hadith’:  Definition\, types and need – Matn vs. Isnād \nLesson 2: The binding legal/religious authority of the  Sunna 1 – Quranic Foundations for Prophetic  Authority  \nLesson 3: The binding legal/religious authority of the  Sunna 2 – Common objections & case studies \nLesson 4: Transmission\, preservation and codification:  Key works\, figures and historical landmarks  \nLesson 5: Verification and authentication: Processes & Methods. \nLesson 6: Hadith Classification 1 – Acc. To number of narrators & continuity of chain \nLesson 7: Engaging the ‘Weak’ Hadith
URL:https://almarifa.org.uk/event/an-introductiont-to-hadith-studies/
END:VEVENT
END:VCALENDAR