BEGIN:VCALENDAR
VERSION:2.0
PRODID:-//Al Ma&#039;rifa - ECPv6.15.19//NONSGML v1.0//EN
CALSCALE:GREGORIAN
METHOD:PUBLISH
X-WR-CALNAME:Al Ma&#039;rifa
X-ORIGINAL-URL:https://almarifa.org.uk
X-WR-CALDESC:Events for Al Ma&#039;rifa
REFRESH-INTERVAL;VALUE=DURATION:PT1H
X-Robots-Tag:noindex
X-PUBLISHED-TTL:PT1H
BEGIN:VTIMEZONE
TZID:Europe/London
BEGIN:DAYLIGHT
TZOFFSETFROM:+0000
TZOFFSETTO:+0100
TZNAME:BST
DTSTART:20250330T010000
END:DAYLIGHT
BEGIN:STANDARD
TZOFFSETFROM:+0100
TZOFFSETTO:+0000
TZNAME:GMT
DTSTART:20251026T010000
END:STANDARD
BEGIN:DAYLIGHT
TZOFFSETFROM:+0000
TZOFFSETTO:+0100
TZNAME:BST
DTSTART:20260329T010000
END:DAYLIGHT
BEGIN:STANDARD
TZOFFSETFROM:+0100
TZOFFSETTO:+0000
TZNAME:GMT
DTSTART:20261025T010000
END:STANDARD
BEGIN:DAYLIGHT
TZOFFSETFROM:+0000
TZOFFSETTO:+0100
TZNAME:BST
DTSTART:20270328T010000
END:DAYLIGHT
BEGIN:STANDARD
TZOFFSETFROM:+0100
TZOFFSETTO:+0000
TZNAME:GMT
DTSTART:20271031T010000
END:STANDARD
END:VTIMEZONE
BEGIN:VEVENT
DTSTART;TZID=Europe/London:20260428T191500
DTEND;TZID=Europe/London:20260428T211500
DTSTAMP:20260422T164420
CREATED:20260414T205935Z
LAST-MODIFIED:20260418T102951Z
UID:2329-1777403700-1777410900@almarifa.org.uk
SUMMARY:An Introduction to Islamic Beliefs
DESCRIPTION:Course Title: Anchored in Faith: An Introduction to Islamic Beliefs\nTeachers: Qasim Farid\nDate: Every Tue starting 28th April 2026\nTime: 7:15-9:15 PM UK\nFee: £55\nRecommended min Age: 16+ \n10 Week Course \nSign Up \nWhat you truly believe is the foundation of your mindset\, outlook and\, by extension\, the life you choose to lead.\nAs Muslims\, what exactly do we believe? Why do we hold these beliefs? How do these beliefs shape how we live?  \nThis short course explores the foundations of Islamic belief (ʿAqīda)  in a way that is rooted and real. Together\, we’ll revisit the fundamentals of faith—belief in Allah\, His Angels\, His Books\, His Messengers\, the Last Day\, and the Divine Decree—not just as a formula to memorise\, but as a framework for understanding and interfacing with existence.  \nThe course has been developed and refined over several years\, drawing on several classical texts of Islamic beliefs\, metaphysics & spirituality\, while speaking to the realities of modern life.\nUsing reason-based arguments proving core beliefs\, spiritual insights into the Divine Names and openly engaging the ideas and ideologies of modernity\, the course is designed to anchor your identity\, inform your choices and bring meaning to everyday life.
URL:https://almarifa.org.uk/event/an-introduction-to-islamic-beliefs/
END:VEVENT
BEGIN:VEVENT
DTSTART;TZID=Europe/London:20260425T120000
DTEND;TZID=Europe/London:20260425T190000
DTSTAMP:20260422T164420
CREATED:20260313T055459Z
LAST-MODIFIED:20260418T102842Z
UID:2300-1777118400-1777143600@almarifa.org.uk
SUMMARY:Secrets of Companionship
DESCRIPTION:Ma’rifa Meetups – Secrets of Companionship: Readings from the works of Imam Ghazali and Imam Sha’rani\nTeachers: Bilal Hussain | Qasim Farid\nDate: Saturday 25th April 2026\nTime: 12:00-7:00pm\nLocation: Dorothy Fox Education Center\, Botanical Gardens Sheffield\, S11 8RB\nRegistration fee: £15 (full day pass) \n-Readings and reflections from Classical Text\n-Gatherings of Dhikr & Nasheeds\n-Open Discussion and Q&A \nRegistration Closed
URL:https://almarifa.org.uk/event/the-alchemy-of-companionship/
LOCATION:Dorothy Fox Education Center\, Batonical Gardens\, Sheffield\, S11 8RB\, United Kingdom
CATEGORIES:Meetups
ATTACH;FMTTYPE=image/png:https://almarifa.org.uk/wp-content/uploads/2026/03/Secrets-of-Companionship-Vertical.png
ORGANIZER;CN="Al Ma'rifa":MAILTO:info@almarifa.org.uk
END:VEVENT
BEGIN:VEVENT
DTSTART;TZID=Europe/London:20260117T130000
DTEND;TZID=Europe/London:20260117T200000
DTSTAMP:20260422T164420
CREATED:20260128T094511Z
LAST-MODIFIED:20260128T094511Z
UID:2179-1768654800-1768680000@almarifa.org.uk
SUMMARY:Seasons of the Soul - Preparing the heart for Ramadan
DESCRIPTION:Ma’rifa Meetup with Bilal Hussain & Qasim Farid \n-Readings and reflections from Classical Text \n-Gatherings of Dhikr & Nasheeds \n-Open Discussion and Q&A
URL:https://almarifa.org.uk/event/seasons-of-the-soul-preparing-the-heart-for-ramadan/
LOCATION:Samlesbury War Memorial Hall\, Samlesbury War Memorial Hall\, Cuerdale Lane\, Preston\, PR5 0UY
CATEGORIES:Meetups
ATTACH;FMTTYPE=image/jpeg:https://almarifa.org.uk/wp-content/uploads/2025/12/Seasons-of-the-Soul-Poster-1.jpeg
ORGANIZER;CN="Al Ma'rifa":MAILTO:info@almarifa.org.uk
END:VEVENT
BEGIN:VEVENT
DTSTART;TZID=Europe/London:20260111T200000
DTEND;TZID=Europe/London:20260111T213000
DTSTAMP:20260422T164420
CREATED:20260127T081458Z
LAST-MODIFIED:20260127T083856Z
UID:2175-1768161600-1768167000@almarifa.org.uk
SUMMARY:Adab: The Art of Prophetic Living
DESCRIPTION:A heart-centric short course delving into the timeless principles and methods of embodied spirituality as lived by the Best of Creation ﷺ.\nAdab lies at the very heart of what it means to live the Way of Prophecy. It infuses every action and interaction of the believer with meaning\, purpose and beauty. Beyond being about mere formalities\, Adab is the art of living with presence\, grace and intentionality.\nDrawing on classical wisdom from the spiritual masters\, this course will carefully guide you through time-tested theories and techniques for transforming the seemingly mundane moments of day-to-day living into profound opportunities for Divine Connection.
URL:https://almarifa.org.uk/event/adab-the-art-of-prophetic-living/
LOCATION:SeekersHub Sheffield\, 180a Staniforth Road\, Sheffield\, S9 3HF\, United Kingdom
CATEGORIES:Short Courses
ATTACH;FMTTYPE=image/jpeg:https://almarifa.org.uk/wp-content/uploads/2025/12/Adab-Poster.jpeg
ORGANIZER;CN="Al Ma'rifa":MAILTO:info@almarifa.org.uk
END:VEVENT
END:VCALENDAR